BEGIN:VCALENDAR
VERSION:2.0
PRODID:-//wp-events-plugin.com//7.2.3.1//EN
TZID:America/New_York
X-WR-TIMEZONE:America/New_York
BEGIN:VEVENT
UID:26@luminescenceacosmicjourney.com
DTSTART:20170909T173000Z
DTEND:20170909T213000Z
DTSTAMP:20170805T175027Z
URL:https://luminescenceacosmicjourney.com/events/gypsy-card-workshop-satu
 rday-090917/
SUMMARY:Gypsy Card Workshop - Saturday\, 09/09/17
DESCRIPTION:Learn the sensitive interpretation of the Russian Gypsy Fortune
  Telling Cards with Assistance from the Angels.\n\nUnderstand the sensitiv
 e\, the profound\, and the extraordinary\, in illuminating interpretation 
 for the best and highest of your querent of these exceptional cards!\n\nTh
 ese distinctive cards are unique and empowered with an energy all their ow
 n. Based on authentic Gypsy teachings of nineteenth century Russia.\, they
  are derived from the Gypsy aspect of Russian folklore\, and a blend of an
 imal\, natural\, and Christian symbols. The cards originated in the southw
 estern part of Russia where the Gypsies lived.[1]\n\nLearn the origin\, re
 spect for cultural tradition\, and how to use these extraordinary cards in
  this interactive workshop!\n\n*We will use the the Russian Gypsy Fortune 
 Telling Cards by Svetlana Alexandrova Touchkoff  for our workshop. The b
 lend of animal\, natural\, and Christian symbol images are simple\, yet f
 eature an abundance of interpretation.\n\nThis workshop will also include 
 interactive exercises to help you to forge and utilize your learning exper
 ience.\n\nIt is suggested that you purchase the Russian Gypsy Fortune Tell
 ing Cards by Svetlana Alexandrova Touchkoff for our workshop.\n\n$36.30 pp
 \n\n*Please note: A PayPal processing fee of $1.30 is included in your Pay
 Pal purchase.\n\nRSVPs close: Sep 8 at 12:00 PM\n\nAmazon - https://www.
 amazon.com/Russian-Gypsy-Fortune-Telling-Cards/dp/0062508768\n\nBarnes and
  Noble - https://www.barnesandnoble.com/w/russian-gypsy-fortune-telling-ca
 rds-svetlana-a-touchkoff/1012434726\n\n[1] Touchkoff\, Alexandrovna Svetla
 na\, Russian Gypsy Fortune Telling Cards
LOCATION:Southern New Hampshire Reiki Center\, 10 Chestnut Drive\, Suite P\
 , Bedford\,N.H.\, 03110\, United States
X-APPLE-STRUCTURED-LOCATION;VALUE=URI;X-ADDRESS=10 Chestnut Drive\, Suite P
 \, Bedford\,N.H.\, 03110\, United States;X-APPLE-RADIUS=100;X-TITLE=Southe
 rn New Hampshire Reiki Center:geo:0,0
END:VEVENT
END:VCALENDAR