BEGIN:VCALENDAR
VERSION:2.0
PRODID:-//wp-events-plugin.com//7.2.3.1//EN
TZID:America/New_York
X-WR-TIMEZONE:America/New_York
BEGIN:VEVENT
UID:6@luminescenceacosmicjourney.com
DTSTART:20170412T233000Z
DTEND:20170413T020000Z
DTSTAMP:20170411T220924Z
URL:https://luminescenceacosmicjourney.com/events/hearts-speak-through-the
 -veil-spirit-unfolding-041217-evening-group-with-sheila-clark/
SUMMARY:Hearts Speak Through the Veil\, Spirit Unfolding - 04/12/17 Evening
  Group with Sheila Clark
DESCRIPTION:Based on the Spiritual concept of Evidential/Mental Mediumship"
 \n\nOur Evening Group of “Hearts Speak Through the Veil\, Spirit Unfoldi
 ng” is ongoing\, foundational and intended for those who are NEW TO deve
 loping their Psychic ('clair senses') Senses and NEW to Mental Mediumship 
 Development.\n\nExploring and utilizing your psychic sense of Clairailienc
 e in your mental mediumship 04/12/17\n\nUnfolding Spirit is dedicated to h
 elping you to develop your radiant Spiritual gift(s)\, and is based on the
  concept of Evidential/Mental Mediumship. In our trusted setting you will 
 always experience an enlightening meditation\, enhance your awareness with
  the experience of interactive exercise(s)\, learn to trust the presence a
 nd clarity of your own psychic senses\, and learn how to trust that clarit
 y to bring through evidence of a DLO’s survival on Earth\, beyond physic
 al death\, as well as a developmental introduction to the beautiful graces
  of Spirit message presentation.\n\nThe primary focus of our Spirit Unfold
 ing  NEW To Psychic Senses &amp\; Mental Mediumship group is designed to 
 stir your natural gifts\,  to develop and stimulate your psychic  senses
 ("clairs")\, and to develop communication with the language of Spirit by r
 eaching outside the limits of your comfort zone. Development is designed f
 or those BRAND NEW to developing their psychic senses and building a found
 ation to basic mental mediumship.\n\nRSVPs close: April 12\, 2017 at 4:00 
 PM
ATTACH;FMTTYPE=image/jpeg:https://luminescenceacosmicjourney.com/wp-conten
 t/uploads/2011/10/Hearts-Speak-Through-the-Veil-01-01-17-Canva-288x192-2.j
 pg
LOCATION:Southern New Hampshire Reiki Center\, 10 Chestnut Drive\, Suite P\
 , Bedford\,N.H.\, 03110\, United States
X-APPLE-STRUCTURED-LOCATION;VALUE=URI;X-ADDRESS=10 Chestnut Drive\, Suite P
 \, Bedford\,N.H.\, 03110\, United States;X-APPLE-RADIUS=100;X-TITLE=Southe
 rn New Hampshire Reiki Center:geo:0,0
END:VEVENT
END:VCALENDAR