BEGIN:VCALENDAR
VERSION:2.0
PRODID:-//wp-events-plugin.com//7.2.3.1//EN
TZID:America/New_York
X-WR-TIMEZONE:America/New_York
BEGIN:VEVENT
UID:12@luminescenceacosmicjourney.com
DTSTART:20170515T153000Z
DTEND:20170515T180000Z
DTSTAMP:20170411T221155Z
URL:https://luminescenceacosmicjourney.com/events/hearts-speak-through-the
 -veil-spirit-unfolding-041717-new-morning-group-2/
SUMMARY:Hearts Speak Through the Veil\, Spirit Unfolding - 05/15/17 NEW Mor
 ning Group
DESCRIPTION:NEW MORNING GROUP  - 10:30am - 1:00pm\n\n*This additional morn
 ing group is the same as the evening group\, “Hearts Speak Through the 
 Veil\, Spirit Unfolding” for those wishing to develop their Psychic ('c
 lair senses') Senses &amp\; NEW to Mental Mediumship Development\, and fac
 ilitation will be started on a trial basis\, based on active interest.\n\n
 *****************************************************\n\n"Based on the Spi
 ritual concept of Evidential/Mental Mediumship"\n\nOur Morning Group of 
 “Hearts Speak Through the Veil\, Spirit Unfolding” is ongoing\, founda
 tional and intended for those who are NEW TO developing their Psychic ('cl
 air senses') Senses &amp\; NEW to Mental Mediumship Development.\n\nExplor
 ing and utilizing your secondary psychic sense of Clairgustance &amp\; Int
 egrating Beginning Gallery 05/15/17\n\nUnfolding Spirit is dedicated to he
 lping you to develop your radiant Spiritual gift(s)\, and is based on the 
 concept of Evidential/Mental Mediumship. In our trusted setting you will a
 lways experience an enlightening meditation\, enhance your awareness with 
 the experience of interactive exercise(s)\, learn to trust the presence an
 d clarity of your own psychic senses\, and learn how to trust that clarity
  to bring through evidence of a DLO’s survival on Earth\, beyond physica
 l death\, as well as a developmental introduction to the beautiful graces 
 of Spirit message presentation.\n\nThe primary focus of our Spirit Unfoldi
 ng  NEW To Psychic Senses &amp\; Mental Mediumship group is designed to s
 tir your natural gifts\,  to develop and stimulate your psychic  senses(
 "clairs")\, and to develop communication with the language of Spirit by re
 aching outside the limits of your comfort zone. Development is designed fo
 r those BRAND NEW to developing their psychic senses and building a founda
 tion to basic mental mediumship.
ATTACH;FMTTYPE=image/jpeg:https://luminescenceacosmicjourney.com/wp-conten
 t/uploads/2011/10/Hearts-Speak-Through-the-Veil-01-01-17-Canva-288x192-2.j
 pg
LOCATION:Southern New Hampshire Reiki Center\, 10 Chestnut Drive\, Suite P\
 , Bedford\,N.H.\, 03110\, United States
X-APPLE-STRUCTURED-LOCATION;VALUE=URI;X-ADDRESS=10 Chestnut Drive\, Suite P
 \, Bedford\,N.H.\, 03110\, United States;X-APPLE-RADIUS=100;X-TITLE=Southe
 rn New Hampshire Reiki Center:geo:0,0
END:VEVENT
END:VCALENDAR