BEGIN:VCALENDAR
VERSION:2.0
PRODID:-//wp-events-plugin.com//7.2.3.1//EN
TZID:America/New_York
X-WR-TIMEZONE:America/New_York
BEGIN:VEVENT
UID:8@luminescenceacosmicjourney.com
DTSTART:20170510T233000Z
DTEND:20170511T020000Z
DTSTAMP:20170411T221123Z
URL:https://luminescenceacosmicjourney.com/events/hearts-speak-through-the
 -veil-spirit-unfolding-051017-evening-group-with-sheila-clark/
SUMMARY:Hearts Speak Through the Veil\, Spirit Unfolding - 05/10/17 Evening
  Group with Sheila Clark
DESCRIPTION:"Based on the Spiritual concept of Evidential/Mental Mediumship
 "\n\nOur Evening Group of “Hearts Speak Through the Veil\, Spirit Unfold
 ing” is ongoing\, foundational and intended for those who are NEW TO dev
 eloping their Psychic ('clair senses') Senses and NEW to Mental Mediumship
  Development.\n\nExploring and utilizing your psychic sense of Clairgustan
 ce in your mental mediumship 05/10/17\n\nUnfolding Spirit is dedicated to 
 helping you to develop your radiant Spiritual gift(s)\, and is based on th
 e concept of Evidential/Mental Mediumship. In our trusted setting you will
  always experience an enlightening meditation\, enhance your awareness wit
 h the experience of interactive exercise(s)\, learn to trust the presence 
 and clarity of your own psychic senses\, and learn how to trust that clari
 ty to bring through evidence of a DLO’s survival on Earth\, beyond physi
 cal death\, as well as a developmental introduction to the beautiful grace
 s of Spirit message presentation.\n\nThe primary focus of our Spirit Unfol
 ding  NEW To Psychic Senses &amp\; Mental Mediumship group is designed to
  stir your natural gifts\,  to develop and stimulate your psychic  sense
 s("clairs")\, and to develop communication with the language of Spirit by 
 reaching outside the limits of your comfort zone. Development is designed 
 for those BRAND NEW to developing their psychic senses and building a foun
 dation to basic mental mediumship.\n\nRSVPs close: May 10\, 2017 at 5:00 P
 M
ATTACH;FMTTYPE=image/jpeg:https://luminescenceacosmicjourney.com/wp-conten
 t/uploads/2011/10/Hearts-Speak-Through-the-Veil-01-01-17-Canva-288x192-2.j
 pg
LOCATION:Southern New Hampshire Reiki Center\, 10 Chestnut Drive\, Suite P\
 , Bedford\,N.H.\, 03110\, United States
X-APPLE-STRUCTURED-LOCATION;VALUE=URI;X-ADDRESS=10 Chestnut Drive\, Suite P
 \, Bedford\,N.H.\, 03110\, United States;X-APPLE-RADIUS=100;X-TITLE=Southe
 rn New Hampshire Reiki Center:geo:0,0
END:VEVENT
END:VCALENDAR