BEGIN:VCALENDAR
VERSION:2.0
PRODID:-//wp-events-plugin.com//7.2.3.1//EN
TZID:America/New_York
X-WR-TIMEZONE:America/New_York
BEGIN:VEVENT
UID:13@luminescenceacosmicjourney.com
DTSTART:20170712T233000Z
DTEND:20170713T020000Z
DTSTAMP:20170411T221749Z
URL:https://luminescenceacosmicjourney.com/events/hearts-speak-through-the
 -veil-spirit-unfolding-071217-evening-group-with-sheila-clark/
SUMMARY:Hearts Speak Through the Veil\, Spirit Unfolding - 07/12/17 Evening
  Group with Sheila Clark
DESCRIPTION:"Based on the Spiritual concept of Evidential/Mental Mediumship
 "\n\nOur Evening Group of “Hearts Speak Through the Veil\, Spirit Unfold
 ing” is ongoing\, foundational and intended for those who are NEW TO dev
 eloping their Psychic ('clair senses') Senses and NEW to Mental Mediumship
  Development.\n\nUnfolding Spirit is dedicated to helping you to develop y
 our radiant Spiritual gift(s)\, and is based on the concept of Evidential/
 Mental Mediumship. In our trusted setting you will always experience an en
 lightening meditation\, enhance your awareness with the experience of inte
 ractive exercise(s)\, learn to trust the presence and clarity of your own 
 psychic senses\, and learn how to trust that clarity to bring through evid
 ence of a DLO’s survival on Earth\, beyond physical death\, as well as a
  developmental introduction to the beautiful graces of Spirit message pres
 entation.\n\nThe primary focus of our Spirit Unfolding  NEW To Psychic Se
 nses &amp\; Mental Mediumship group is designed to stir your natural gifts
 \,  to develop and stimulate your psychic  senses("clairs")\, and to dev
 elop communication with the language of Spirit by reaching outside the lim
 its of your comfort zone. Development is designed for those BRAND NEW to d
 eveloping their psychic senses and building a foundation to basic mental m
 ediumship.\n\nRSVPs close: July 12\, 2017 at 5:00 PM
ATTACH;FMTTYPE=image/jpeg:https://luminescenceacosmicjourney.com/wp-conten
 t/uploads/2011/10/Hearts-Speak-Through-the-Veil-01-01-17-Canva-288x192-2.j
 pg
LOCATION:Southern New Hampshire Reiki Center\, 10 Chestnut Drive\, Suite P\
 , Bedford\,N.H.\, 03110\, United States
X-APPLE-STRUCTURED-LOCATION;VALUE=URI;X-ADDRESS=10 Chestnut Drive\, Suite P
 \, Bedford\,N.H.\, 03110\, United States;X-APPLE-RADIUS=100;X-TITLE=Southe
 rn New Hampshire Reiki Center:geo:0,0
END:VEVENT
END:VCALENDAR