BEGIN:VCALENDAR
VERSION:2.0
PRODID:-//wp-events-plugin.com//7.2.3.1//EN
TZID:America/New_York
X-WR-TIMEZONE:America/New_York
BEGIN:VEVENT
UID:14@luminescenceacosmicjourney.com
DTSTART:20170717T153000Z
DTEND:20170717T180000Z
DTSTAMP:20170411T221829Z
URL:https://luminescenceacosmicjourney.com/events/hearts-speak-through-the
 -veil-spirit-unfolding-071717-new-morning-group/
SUMMARY:Hearts Speak Through the Veil\, Spirit Unfolding - 07/17/17 NEW Mor
 ning Group
DESCRIPTION:NEW MORNING GROUP  - 10:30am - 1:00pm\n\n*This additional morn
 ing group is the same as the evening group\, “Hearts Speak Through the 
 Veil\, Spirit Unfolding” for those wishing to develop their Psychic ('c
 lair senses') Senses &amp\; NEW to Mental Mediumship Development\, and fac
 ilitation will be started on a trial basis\, based on active interest.\n\n
 *****************************************************\n\n"Based on the Spi
 ritual concept of Evidential/Mental Mediumship"\n\nOur Morning Group of 
 “Hearts Speak Through the Veil\, Spirit Unfolding” is ongoing\, founda
 tional and intended for those who are NEW TO developing their Psychic ('cl
 air senses') Senses &amp\; NEW to Mental Mediumship Development.\n\nUnfold
 ing Spirit is dedicated to helping you to develop your radiant Spiritual g
 ift(s)\, and is based on the concept of Evidential/Mental Mediumship. In o
 ur trusted setting you will always experience an enlightening meditation\,
  enhance your awareness with the experience of interactive exercise(s)\, l
 earn to trust the presence and clarity of your own psychic senses\, and le
 arn how to trust that clarity to bring through evidence of a DLO’s survi
 val on Earth\, beyond physical death\, as well as a developmental introduc
 tion to the beautiful graces of Spirit message presentation.\n\nThe primar
 y focus of our Spirit Unfolding  NEW To Psychic Senses &amp\; Mental Medi
 umship group is designed to stir your natural gifts\,  to develop and sti
 mulate your psychic  senses("clairs")\, and to develop communication with
  the language of Spirit by reaching outside the limits of your comfort zon
 e. Development is designed for those BRAND NEW to developing their psychic
  senses and building a foundation to basic mental mediumship.
ATTACH;FMTTYPE=image/jpeg:https://luminescenceacosmicjourney.com/wp-conten
 t/uploads/2011/10/Hearts-Speak-Through-the-Veil-01-01-17-Canva-288x192-2.j
 pg
LOCATION:Southern New Hampshire Reiki Center\, 10 Chestnut Drive\, Suite P\
 , Bedford\,N.H.\, 03110\, United States
X-APPLE-STRUCTURED-LOCATION;VALUE=URI;X-ADDRESS=10 Chestnut Drive\, Suite P
 \, Bedford\,N.H.\, 03110\, United States;X-APPLE-RADIUS=100;X-TITLE=Southe
 rn New Hampshire Reiki Center:geo:0,0
END:VEVENT
END:VCALENDAR