BEGIN:VCALENDAR
VERSION:2.0
PRODID:-//wp-events-plugin.com//7.2.3.1//EN
TZID:America/New_York
X-WR-TIMEZONE:America/New_York
BEGIN:VEVENT
UID:27@luminescenceacosmicjourney.com
DTSTART:20171111T140000Z
DTEND:20171111T230000Z
DTSTAMP:20171105T124600Z
URL:https://luminescenceacosmicjourney.com/events/mediumship-ex%c2%adplore
 -unfold-your-mediumship-in-an-all-day-workshop-large-venue-111117/
SUMMARY:Mediumship-"Ex­plore & Unfold Your Mediumship in a Day-Long Worksh
 op" - Large Venue 11/11/17
DESCRIPTION:Mediumship: An  All-Day Workshop  in a Large Venue\nSaturday\
 , 11/11/17\,   9a-6p\,    at the Holiday Inn Downtown\, 172 North Main 
 Street\, Concord\, NH 03301\nMediumship – Explore and Unfold Your Medium
 ship in an All-day Workshop With Sheila Clark\, Anita Racicot McMillen\, 
 and Elizabeth Robidoux\n A personal invitation to join in our Special Eve
 nt - All are welcome!\nPrice: $111.00 /per person  *See Several Affordabl
 e Payment Options Available\nAffordable Payment Options: *See Bookings/Reg
 istration Section Below*\n*Please go to the following link to register and
  pay in whole or to choose several affordable installments:\nhttp://lumine
 scenceacosmicjourney.com/events/mediumship-ex­plore-unfold-your-mediumshi
 p-in-an-all-day-workshop-large-venue-111117/\n*Please Note: You Must Enter
  All of Your Recurring Payments Manually\n"HAVE FAITH When you step outsid
 e your comfort zone for your higher purpose\, the Universe supports you in
  every way" ~ By Will Starborn\nIs a full day of motivating mediumship dev
 elopment in a comfortable and inspirational training environment\, a mediu
 mship workshop for you to consider\, engage\, and experience? Wherever you
  happen to be in your mediumship unfoldment\, there is room for you\, as w
 e will be embracing all levels of experience. Experience motivating develo
 pment in a trusted environment \, as you build and unfold your mediumship.
  We are dedicated to helping you to develop your radiant Spiritual gift(s)
  as a Medium\, based on the concept of Evidential/Mental Mediumship.\nIn o
 ur large-group setting you will experience enlightening meditation. You wi
 ll also learn to sit in the power\, a useful regular practice for developi
 ng mediums\, as you access the power within that is essential for Spirit C
 ommunication by honoring the Spirit and  blending the energy of you\, the
  Medium with Spirit. By learning to sit in the power\, you will more readi
 ly raise your vibration as you work to open your link to the Spirit World.
 \nThis practice will also enhance awareness to your own abilities\, in an 
 encouraging setting where you will be supported and assisted in your mediu
 mship journey. You will learn to trust and expand your rapport with those 
 in Spirit\, by linking and bringing through evidence of their survival on 
 Earth ~ beyond physical death ~  validating your Loved One in Spirit\, co
 nnecting with and communing the comforting message\, and proving the conti
 nuity of the soul\, beyond physical death\,  to grow and strengthen conne
 ction with the Spirit World.\nYour experience will include lots of interac
 tive\, motivational exercise(s) that will help you to learn to trust the p
 resence and clarity of Spirit through your own psychic senses\, your menta
 l mediumship\, and learn to trust that clarity to bring through evidence o
 f a DLO’s survival on Earth.\nAn enlightening developmental introduction
  to the beautiful graces of Spirit message presentation\, in several proto
 cols\, is also on the agenda for this enlightening\, fun-filled day to hel
 p you to develop and trust communication with the language of Spirit by co
 nsistently reaching outside the limits of your comfort zone with clear evi
 dence and comforting messages proving the continuity of the soul's surviva
 l\, which will be our focus for the day.\nThis day of mediumship developme
 nt is designed for everyone who chooses to explore and experience mental m
 ediumship\, by learning to trust your own innate abilities\, and how to tr
 ust that clarity to bring through evidence of a DLO’s survival on Earth\
 , beyond physical death\, as well as actively practicing and participating
  in the varied styles of Spirit message presentation.\nAccommodations opti
 ons will be made available\, at an additional cost\, at a discounted rate 
 under the name “Luminescence Workshop” at the Holiday Inn\, Concord\, 
 NH 03301 603-224-9534 should you desire accommodations for this all-day wo
 rkshop. The hours for our workshop will be 9a-5p. We are limited to number
  attending so please be certain to register and establish payment as soon 
 as possible.\nI have made every effort to make this workshop affordable to
  everyone and in doing so\, established a method by which you can pay in t
 otal\, or in installments until total is paid in full. For additional Bala
 nce Due Options please contact me for a special invoice. *Total due must b
 e paid prior to the workshop.\nContact Sheila Clark\, Anita McMillen\, or 
 Elizabeth Robidoux or call 603-315-9478 for information\n*****************
 ***********************************\nAbout Your Tutelage Team:\nAbout Eliz
 abeth Robidoux: An evidential psychic medium and Reiki Master\, offering h
 eart centered connections to deceased loved ones\, infusing humor and kind
 ness into her readings. She continues to train with national and internati
 onal mediums to refine and grow her gifts. Like Anita\, mediumship is also
  her passion.\nAbout Anita McMillen: An Intuitive Healer\, Psychic Medium 
 and Spiritual Consultant. She has fined turned a God given talent\, and tr
 ained with national and internal mediums. This is Anita's passion as well 
 as her purpose.\nAbout Sheila Clark: My spiritual\, mediumship and psychi
 c concentrations are numerous\, diverse\, and include considerable and sig
 nificant areas of study. However\, not only limited to my concentrated foc
 us of Mental/Evidential Mediumship\, other concentrations include many fac
 ets of enlightenment \, as wells as healing modalities Usui/Tibetan Reiki(
 RMT) and Multi-Dimensional Shamballa.\nIn addition to my extensive foundat
 ional studies\, which include study under multiple respected and  knowled
 geable international mediums\, I have participated in abundant short-durat
 ion mediumship development workshops that have also cultivated my mediumsh
 ip knowledge-base of references.Additionally\, I have been blessed by mult
 iple opportunities to experience advanced continuation of my enlightening 
 development\, by joining  more than several advanced/progressive mediumsh
 ip workshops at the esteemed Arthur Findlay College\, in Stansted\, United
  Kingdom\, The Omega Institute in Rhinebeck\, NY\, and at The Journey With
 in in Pompton Lakes\, NJ. *Complete Biography at http://luminescenceacosm
 icjourney.com/biography/\n************************************************
 ****\nPayment Options:\nAffordable Payment Options Available: *See Booking
 s/Registration Section Below*\n*Please go to the following link to registe
 r and pay in whole or to choose several affordable installments:\nhttp:// 
 luminescenceacosmicjourney. com/events/ mediumship-ex­plore-unfold- your-
 mediumship-in-an-all- day-workshop-large-venue-1 11117/\n*Please note: App
 ropriate PayPal processing fees are included in your payment\n&nbsp\;\n\n&
 nbsp\;\n"Dedicated to helping you to develop your radiant Spiritual gift(s
 ) as a Medium\, and always based on the concept of Evidential/Mental Mediu
 mship"\n
LOCATION:Holiday Inn Downtown\, Concord\, NH 03301\, 172 North Main Street\
 , Concord\, NH\, 03301\, United States
X-APPLE-STRUCTURED-LOCATION;VALUE=URI;X-ADDRESS=172 North Main Street\, Con
 cord\, NH\, 03301\, United States;X-APPLE-RADIUS=100;X-TITLE=Holiday Inn D
 owntown\, Concord\, NH 03301:geo:0,0
END:VEVENT
END:VCALENDAR