BEGIN:VCALENDAR
VERSION:2.0
PRODID:-//wp-events-plugin.com//7.2.3.1//EN
TZID:America/New_York
X-WR-TIMEZONE:America/New_York
BEGIN:VEVENT
UID:25@luminescenceacosmicjourney.com
DTSTART:20170813T173000Z
DTEND:20170813T210000Z
DTSTAMP:20170805T174751Z
URL:https://luminescenceacosmicjourney.com/events/psychometry-learn-the-ps
 ychic-sense-of-clairtangency-sunday-081317/
SUMMARY:Psychometry: Learn the Psychic Sense of Clairtangency - Sunday\, 08
 /13/17
DESCRIPTION:Psychometry: Learn the Psychic Sense of Clairtangency\, Commonl
 y Known as Psychometry\nPsychometry is the ability to handle an object and
  be able to perceive psychic information such as impressions\, images\, co
 lors\, feelings\, smells\, tastes\, personality from the Ethereal Realms b
 y using touch.\n• Psychometry is reading the energy imprint of object b
 y holding\, handling or touching it\n\n• Psychometry is sensing things 
 about the history of an object\, its historic events\, emotions connected 
 to the object\, through the energy imprint /energy surrounding an object.\
 nIn this workshop you will explore Psychometry as you learn your ability t
 o utilize your psychic connection to the Ethereal Realms through discussio
 n\, thought-provoking interactive exercise development designed and incorp
 orated into the workshop to clarify your ability to use Clairtangency\, (c
 ommonly known as psychometry)\, and learn to read the energy imprint of an
  object.\nPsychometry is easy to develop and becomes better with practice.
 \n*If you register for this workshop\, please bring several small metal ob
 jects (jewelry\, keys etc.) and non-metal objects(paper business card\, wo
 od etc.) with you on the day of the workshop for which you have knowledge 
 of the history of these objects.\nRSVP Closes - August 12\, 2017 \, 8:00
 am\n*Please note: A PayPal processing fee of $1.00 is included in your pur
 chase.\nThank You!\nCall 603-315-9478 for additional information\n&nbsp\;
LOCATION:Southern New Hampshire Reiki Center\, 10 Chestnut Drive\, Suite P\
 , Bedford\,N.H.\, 03110\, United States
X-APPLE-STRUCTURED-LOCATION;VALUE=URI;X-ADDRESS=10 Chestnut Drive\, Suite P
 \, Bedford\,N.H.\, 03110\, United States;X-APPLE-RADIUS=100;X-TITLE=Southe
 rn New Hampshire Reiki Center:geo:0,0
END:VEVENT
END:VCALENDAR