BEGIN:VCALENDAR
VERSION:2.0
PRODID:-//wp-events-plugin.com//7.2.3.1//EN
TZID:America/New_York
X-WR-TIMEZONE:America/New_York
BEGIN:VEVENT
UID:5@luminescenceacosmicjourney.com
DTSTART:20171015T150000Z
DTEND:20171015T213000Z
DTSTAMP:20171013T114926Z
URL:https://luminescenceacosmicjourney.com/events/tarot-explore-utilize-th
 e-wisdom-of-the-tarot-new-with-sheila-and-anita-sunday-101517/
SUMMARY:Tarot: Explore & Utilize the Wisdom of the Tarot - NEW with Sheila 
 and Anita Sunday\, 10/15/17
DESCRIPTION:I am honored and delighted to partner with Anita Racicot-McMill
 en\, to bring forth\, a premier day of fun and foundation spent in explori
 ng &amp\; learning the respected and history-laden Tarot.  We will endeav
 or to bring a new-found awareness to this historical and respected divinat
 ion by encouraging  a comfortable foundation to utilize in your psychic r
 eading awareness.\n\nIn this  fun\, all-day workshop\, we will overview t
 he Major and Minor Arcana.  We will also explore the pictorial symbolic i
 magery of the Tarot\, seasonal association\, numerological relationship\, 
 interpretation\, become familiar with several Tarot spreads\, learn how to
  clear your own deck\, and overview the ethical principles of interpreting
  the Tarot.\n\nWe will use the Rider-Waite Tarot deck \, originally publis
 hed in 1910\, and heralded as one of the top ten Tarot decks of all time. 
 It  is still one of the most popular basic tarot decks in use today. Whil
 e the images are simple\, the details and backgrounds feature an abundance
  of symbolism.[1] "A unique feature of the Rider-Waite deck\, and one of t
 he principal reasons for its enduring popularity\, is that all of the card
 s\, including the Minor Arcana\, depict full scenes with figures and symbo
 ls. Prior to the Rider-Waite Tarot\, the cards of almost all tarot decks w
 ere marked only with the arrangement of the suit signs -- swords\, wands\,
  cups\, and coins\, or pentacles. The pictorial images on all the cards al
 low interpretations without the need to repeatedly consult explanatory tex
 t.[2]\n\nOne of my first divination “loves” . . . . my heart-fond rela
 tionship with the Tarot began many years ago. My own background with inter
 preting the Tarot is extensive and has expanded many years of Tarot divina
 tion\, ever-growing and ever-expanding each time my very worn deck is take
 n from its velvet bag\, to explore the possibilities of a client’s poten
 tial path.\n\nAnd . . . .  introducing Anita Racicot-Mcmillen! Anita has 
 been reading tarot since she was a teenager\, receiving her first deck as 
 a Christmas gift from her parents many years ago.  She expresses her use 
 of Tarot as “using the language if the soul\, thereby unlocking the subc
 onscious mind \, and giving us guidance \, and the choice of  answers to 
 use along our path”.\n\nI am very pleased that Anita Racicot-McMillen wi
 ll be partnering with me to teach this fun and invigorating workshop.\n\nT
 his workshop will also include interactive exercises to help you to forge 
 and utilize your learning experience.\n\n$67.25 per person\, All Day Works
 hop 10:00a – 4:30p\n\n*Please note: A PP processing fee of $2.25 is inc
 luded in your PayPal purchase.\n\nRSVP's will end Saturday\, 10/14/17 at 
 3:00p
ATTACH;FMTTYPE=image/jpeg:https://luminescenceacosmicjourney.com/wp-conten
 t/uploads/2011/10/Rider-Waite-Tarot-II-a_jpg_AOL2eb82bae-df06-46eb-8dff-31
 ada79abdb7.jpg
LOCATION:Southern New Hampshire Reiki Center\, 10 Chestnut Drive\, Suite P\
 , Bedford\,N.H.\, 03110\, United States
X-APPLE-STRUCTURED-LOCATION;VALUE=URI;X-ADDRESS=10 Chestnut Drive\, Suite P
 \, Bedford\,N.H.\, 03110\, United States;X-APPLE-RADIUS=100;X-TITLE=Southe
 rn New Hampshire Reiki Center:geo:0,0
END:VEVENT
END:VCALENDAR