BEGIN:VCALENDAR
VERSION:2.0
PRODID:-//wp-events-plugin.com//7.2.3.1//EN
TZID:America/New_York
X-WR-TIMEZONE:America/New_York
BEGIN:VEVENT
UID:22@luminescenceacosmicjourney.com
DTSTART:20171025T233000Z
DTEND:20171026T020000Z
DTSTAMP:20171024T192300Z
URL:https://luminescenceacosmicjourney.com/events/visions-of-unity-evolvin
 g-your-mediumship-with-sheila-clark-092717/
SUMMARY:Visions of Unity\, Evolving Your Mediumship with Sheila Clark - 10/
 25/17
DESCRIPTION:Important Note: Our 10/25/17 Mediumship Development Group "Vis
 ions of Unity\, Evolving Your Mediumship" had to be CANCELLED\, as our fac
 ility SNHRC\, (where we hold our group sessions)\, is currently undergoing
  major outside renovations(eg\, roof\, walkway etc) and although not compl
 ete\, we anticipate the repairs being completed in a timely matter for our
  future groups. Our future groups should go on as planned. My deepest apol
 ogies for any inconvenience!\n\n******************************************
 ******************************************************\n\n"Based on the Sp
 iritual concept of Evidential/Mental Mediumship"\n\n"Visions of Unity\, Ev
 olving Your Mediumship" is an ongoing  Mediumship Development group\, so
 mewhat more evolved in linking\, developmental exercise(s)\, and experienc
 e\, and is suggested for those with a previous foundation in Mediumship.\n
 \nThis group is focused on the continuing unfoldment in  the evolution of
  your Spiritual gift(s) and is based on the concept of Evidential/Mental M
 ediumship\, where you will always experience an enlightening meditation\, 
 benefit from the experience of interactive exercise(s)\, learn to trust th
 e clarity of your own innate abilities\, and learn how to trust that clari
 ty to bring through evidence of a DLO’s survival on Earth\, beyond physi
 cal death\, as well as actively practicing and participating in the varied
  styles of Spirit message presentation.\n\nThe group development is design
 ed to help you to build confidence\, trust and expand your rapport with t
 hose in Spirit\, by specific\, focus interactive exercise(s) emphasizing 
 linking\, enhanced evidence\, and additional practice and protocol in the
  varied styles of Spirit message presentation.\n\nPrice: $20.00 /per perso
 n\n\nTo Pay In Full - $20.85\n\n*Please note: A PayPal processing fee of $
 .85  is included in your purchase for this event.\n\n&nbsp\;\n\n*Suggeste
 d for those with a foundation in mediumship. See  “Hearts Speak Throug
 h the Veil\, Spirit Unfolding" if you are brand NEW to mediumship\n\nRSVPs
  close: October 25\, 2017 at 5:00 PM
ATTACH;FMTTYPE=image/jpeg:https://luminescenceacosmicjourney.com/wp-conten
 t/uploads/2012/11/Visions-of-Unity-Evolving-Your-Mediumship-01-03-17-3-15.
 0x5.5-e1491747834110.jpg
LOCATION:Southern New Hampshire Reiki Center\, 10 Chestnut Drive\, Suite P\
 , Bedford\,N.H.\, 03110\, United States
X-APPLE-STRUCTURED-LOCATION;VALUE=URI;X-ADDRESS=10 Chestnut Drive\, Suite P
 \, Bedford\,N.H.\, 03110\, United States;X-APPLE-RADIUS=100;X-TITLE=Southe
 rn New Hampshire Reiki Center:geo:0,0
END:VEVENT
END:VCALENDAR