BEGIN:VCALENDAR
VERSION:2.0
PRODID:-//wp-events-plugin.com//7.2.3.1//EN
TZID:America/New_York
X-WR-TIMEZONE:America/New_York
BEGIN:VEVENT
UID:4@luminescenceacosmicjourney.com
DTSTART:20170521T173000Z
DTEND:20170521T210000Z
DTSTAMP:20170504T115232Z
URL:https://luminescenceacosmicjourney.com/events/your-aura-exploring-the-
 seven-layers-of-the-aura-sunday-052117/
SUMMARY:Your Aura - "Exploring the Seven Layers of the Aura" ~ Sunday\, 05/
 21/17
DESCRIPTION:Would love to have join us in "Exploring the 7 Layers of the Au
 ra" on Sunday\, 05/21/17.\n\nThe Aura is the etheric energy system around 
 the body\, and all things\, and is constantly changing and in motion\, and
  at the base of our intuition\, psychic development and mediumship.\n\nIn 
 this workshop we will explore the Seven Layers of the Aura\,  and overvie
 w their unique correlation to the Chakras.\n\nInteractive Exercise: We wil
 l gradually build and enhance our knowledge of the Aura through various sp
 ecific strengthening interactive exercises and practice\, designed and inc
 orporated into the workshop to clarify our ability to see\, feel\, sense\,
  and build our knowledge of this amazing etheric energy system around our 
 own body\, and all things.\n\nWe will learn to See\, Feel\, Expand\, Shrin
 k\, Push and Pull the Aura\, as well as immersing in an enlightening exper
 ience of a beautiful Aura meditation to help us visualize and  explore th
 e 7 Layers of the Aura.\n\nFor further information please call 603-315-947
 8\n\n$36.30\n\n*Please note: A PP processing fee of $1.30 is included in y
 our PayPal purchase.\n\n*RSVP's close on May 20\, 2017 at 9am
ATTACH;FMTTYPE=image/jpeg:https://luminescenceacosmicjourney.com/wp-conten
 t/uploads/2017/04/Exploring-the-Seven-Layers-of-the-Aura.jpg
LOCATION:Southern New Hampshire Reiki Center\, 10 Chestnut Drive\, Suite P\
 , Bedford\,N.H.\, 03110\, United States
X-APPLE-STRUCTURED-LOCATION;VALUE=URI;X-ADDRESS=10 Chestnut Drive\, Suite P
 \, Bedford\,N.H.\, 03110\, United States;X-APPLE-RADIUS=100;X-TITLE=Southe
 rn New Hampshire Reiki Center:geo:0,0
END:VEVENT
END:VCALENDAR