BEGIN:VCALENDAR
VERSION:2.0
PRODID:-//wp-events-plugin.com//7.2.3.1//EN
TZID:America/New_York
X-WR-TIMEZONE:America/New_York
BEGIN:VEVENT
UID:3@luminescenceacosmicjourney.com
DTSTART:20170430T173000Z
DTEND:20170430T210000Z
DTSTAMP:20170427T103909Z
URL:https://luminescenceacosmicjourney.com/events/your-chakras-an-explorat
 ion-of-seven-spiritual-energy-centers-43017/
SUMMARY:Your Chakras: An Exploration of Seven Spiritual Energy Centers - Su
 nday\, 04/30/17
DESCRIPTION:Join me in "Your Chakras: An Exploration of Your Seven Main Spi
 ritual Energy Centers"\, on  Sunday\, 4/30/17\, 12:30p - 4p\n\nIn this w
 orkshop\, we will explore the seven main spiritual energy centers of the e
 thereal body\, one by one. Our main spiritual energy centers  are located
  along the central line of the body\, and illuminate this amazing dynamic 
 force of our inner energy system\, and integral component(s) of our inner 
 spiritual body. Our Chakras are at the foundation\, and key to our intuit
 ive and psychic awareness\, and our mediumship.\n\nInteractive Exercises: 
 We will also review the Chakras' unique correlation to the Aura and build 
 our knowledge of the seven main chakras through several specific interacti
 ve exercises and practice\, designed and incorporated into the workshop to
  clarify the amazing spiritual connection between our physical and auric b
 odies\, and our connection and all things.\n\nAs an added bonus we will ov
 erview the 'Planetary Chakas' of our own planet Earth and integral part o
 f the whole global energy grid.\n\n$34.25\n\n*Please note: A PP processing
  fee of $1.25 is included in your PayPal purchase.\n\nRSVP will close: A
 pril 29\, 2017 at 7:00am
ATTACH;FMTTYPE=image/jpeg:https://luminescenceacosmicjourney.com/wp-conten
 t/uploads/2017/04/Chakras-An-Expedition-through-Your-Seven-Main-Spiritual-
 Energy-Centers.jpg
LOCATION:Southern New Hampshire Reiki Center\, 10 Chestnut Drive\, Suite P\
 , Bedford\,N.H.\, 03110\, United States
X-APPLE-STRUCTURED-LOCATION;VALUE=URI;X-ADDRESS=10 Chestnut Drive\, Suite P
 \, Bedford\,N.H.\, 03110\, United States;X-APPLE-RADIUS=100;X-TITLE=Southe
 rn New Hampshire Reiki Center:geo:0,0
END:VEVENT
END:VCALENDAR