BEGIN:VCALENDAR
VERSION:2.0
PRODID:-//wp-events-plugin.com//7.2.3.1//EN
TZID:America/New_York
X-WR-TIMEZONE:America/New_York
BEGIN:VEVENT
UID:2@luminescenceacosmicjourney.com
DTSTART:20171001T170000Z
DTEND:20171001T210000Z
DTSTAMP:20170602T121844Z
URL:https://luminescenceacosmicjourney.com/events/your-spirit-guides-and-y
 ou-workshop/
SUMMARY:Your Spirit Guides and You Workshop - Sunday\, 10/01/17
DESCRIPTION:Spend an afternoon in a safe and judgement-free student environ
 ment\, learning how to embrace the enlightening connection with your Spiri
 t Guides by recognizing their encouraging presence\, their purpose in your
  life\, their order and the importance of building a relationship with the
 m..\n\nSunday\, October 1\, 2017 12:00 pm – 04:00pm\n\n*Please note: A P
 ayPal processing fee of $1.50 is included in your PayPal purchase.\n\nRESE
 RVE YOUR SEAT IN THIS STIMULATING WORKSHOP
ATTACH;FMTTYPE=image/jpeg:https://luminescenceacosmicjourney.com/wp-conten
 t/uploads/2017/03/Your-Spirit-Guides-and-You-09-03-15-Web.jpg
LOCATION:Southern New Hampshire Reiki Center\, 10 Chestnut Drive\, Suite P\
 , Bedford\,N.H.\, 03110\, United States
X-APPLE-STRUCTURED-LOCATION;VALUE=URI;X-ADDRESS=10 Chestnut Drive\, Suite P
 \, Bedford\,N.H.\, 03110\, United States;X-APPLE-RADIUS=100;X-TITLE=Southe
 rn New Hampshire Reiki Center:geo:0,0
END:VEVENT
END:VCALENDAR